BEGIN:VCALENDAR
VERSION:2.0
PRODID:-//Scarborough Land Trust - ECPv6.15.13//NONSGML v1.0//EN
CALSCALE:GREGORIAN
METHOD:PUBLISH
X-WR-CALNAME:Scarborough Land Trust
X-ORIGINAL-URL:https://scarboroughlandtrust.org
X-WR-CALDESC:Events for Scarborough Land Trust
REFRESH-INTERVAL;VALUE=DURATION:PT1H
X-Robots-Tag:noindex
X-PUBLISHED-TTL:PT1H
BEGIN:VTIMEZONE
TZID:America/New_York
BEGIN:DAYLIGHT
TZOFFSETFROM:-0500
TZOFFSETTO:-0400
TZNAME:EDT
DTSTART:20240310T070000
END:DAYLIGHT
BEGIN:STANDARD
TZOFFSETFROM:-0400
TZOFFSETTO:-0500
TZNAME:EST
DTSTART:20241103T060000
END:STANDARD
BEGIN:DAYLIGHT
TZOFFSETFROM:-0500
TZOFFSETTO:-0400
TZNAME:EDT
DTSTART:20250309T070000
END:DAYLIGHT
BEGIN:STANDARD
TZOFFSETFROM:-0400
TZOFFSETTO:-0500
TZNAME:EST
DTSTART:20251102T060000
END:STANDARD
BEGIN:DAYLIGHT
TZOFFSETFROM:-0500
TZOFFSETTO:-0400
TZNAME:EDT
DTSTART:20260308T070000
END:DAYLIGHT
BEGIN:STANDARD
TZOFFSETFROM:-0400
TZOFFSETTO:-0500
TZNAME:EST
DTSTART:20261101T060000
END:STANDARD
END:VTIMEZONE
BEGIN:VEVENT
DTSTART;TZID=America/New_York:20251005T143000
DTEND;TZID=America/New_York:20251005T163000
DTSTAMP:20260424T050819
CREATED:20250928T143802Z
LAST-MODIFIED:20250928T143802Z
UID:10000346-1759674600-1759681800@scarboroughlandtrust.org
SUMMARY:Sustainable Scarborough Day with SLT & Allagash
DESCRIPTION:Come join Scarborough Land Trust at the Allagash Bungalow\, the brewery’s new location right here in Scarborough. A new Business Community Partner for SLT\, Allagash is hosting our Sustainable Scarborough Day table for the afternoon. Come visit this new local gathering space at The Downs and learn more about what we can all do to live more sustainably in our community. Take our fun sustainability quiz for a chance to win prizes!
URL:https://scarboroughlandtrust.org/event/sustainable-scarborough-day-with-slt-allagash/
LOCATION:Allagash Bungalow\, 10 Market Street\, Scarborough\, ME\, 04074\, United States
END:VEVENT
END:VCALENDAR