BEGIN:VCALENDAR
VERSION:2.0
PRODID:-//Scarborough Land Trust - ECPv6.15.13//NONSGML v1.0//EN
CALSCALE:GREGORIAN
METHOD:PUBLISH
X-ORIGINAL-URL:https://scarboroughlandtrust.org
X-WR-CALDESC:Events for Scarborough Land Trust
REFRESH-INTERVAL;VALUE=DURATION:PT1H
X-Robots-Tag:noindex
X-PUBLISHED-TTL:PT1H
BEGIN:VTIMEZONE
TZID:America/New_York
BEGIN:DAYLIGHT
TZOFFSETFROM:-0500
TZOFFSETTO:-0400
TZNAME:EDT
DTSTART:20220313T070000
END:DAYLIGHT
BEGIN:STANDARD
TZOFFSETFROM:-0400
TZOFFSETTO:-0500
TZNAME:EST
DTSTART:20221106T060000
END:STANDARD
BEGIN:DAYLIGHT
TZOFFSETFROM:-0500
TZOFFSETTO:-0400
TZNAME:EDT
DTSTART:20230312T070000
END:DAYLIGHT
BEGIN:STANDARD
TZOFFSETFROM:-0400
TZOFFSETTO:-0500
TZNAME:EST
DTSTART:20231105T060000
END:STANDARD
BEGIN:DAYLIGHT
TZOFFSETFROM:-0500
TZOFFSETTO:-0400
TZNAME:EDT
DTSTART:20240310T070000
END:DAYLIGHT
BEGIN:STANDARD
TZOFFSETFROM:-0400
TZOFFSETTO:-0500
TZNAME:EST
DTSTART:20241103T060000
END:STANDARD
END:VTIMEZONE
BEGIN:VEVENT
DTSTART;VALUE=DATE:20230814
DTEND;VALUE=DATE:20230815
DTSTAMP:20260424T033026
CREATED:20230810T193852Z
LAST-MODIFIED:20230813T161655Z
UID:10000165-1691971200-1692057599@scarboroughlandtrust.org
SUMMARY:Film Screening: Wings Over Water
DESCRIPTION:Join the Prouts Neck Audubon Society (PNAS) and Executive Producer Charlie Potter for a special IMAX screening of the 44-minute documentary Wings Over Water on Monday\, August 14 at Apple Cinemas in Saco. Two show times are available below. \nPNAS has graciously offered a small batch of tickets to SLT supporters. All proceeds from ticket sales go PNAS. \nAll tickets purchased on this page must be picked up in person at the SLT office (7 Oak Hill Terrace\, Suite 202) on Monday\, August 14 between 9am and 1pm. Any ticket numbers or QR codes you receive through email for this event will not work to get you into the theater. You must pick up paper tickets at the SLT office. \n*Note: Show times are 5:30 and 7:00. Sorry for any confusion.
URL:https://scarboroughlandtrust.org/event/film-screening-wings-over-water/
LOCATION:Apple Cinemas\, Saco\, 779 Portland Rd.\, Saco\, ME\, 04072\, United States
ATTACH;FMTTYPE=image/jpeg:https://scarboroughlandtrust.org/wp-content/uploads/2023/08/Wings-Over-Water_Sunset_Key-Art_27x40_20042021-scaled.jpg
END:VEVENT
END:VCALENDAR