BEGIN:VCALENDAR
VERSION:2.0
PRODID:-//Scarborough Land Trust - ECPv6.15.13//NONSGML v1.0//EN
CALSCALE:GREGORIAN
METHOD:PUBLISH
X-WR-CALNAME:Scarborough Land Trust
X-ORIGINAL-URL:https://scarboroughlandtrust.org
X-WR-CALDESC:Events for Scarborough Land Trust
REFRESH-INTERVAL;VALUE=DURATION:PT1H
X-Robots-Tag:noindex
X-PUBLISHED-TTL:PT1H
BEGIN:VTIMEZONE
TZID:America/New_York
BEGIN:DAYLIGHT
TZOFFSETFROM:-0500
TZOFFSETTO:-0400
TZNAME:EDT
DTSTART:20230312T070000
END:DAYLIGHT
BEGIN:STANDARD
TZOFFSETFROM:-0400
TZOFFSETTO:-0500
TZNAME:EST
DTSTART:20231105T060000
END:STANDARD
BEGIN:DAYLIGHT
TZOFFSETFROM:-0500
TZOFFSETTO:-0400
TZNAME:EDT
DTSTART:20240310T070000
END:DAYLIGHT
BEGIN:STANDARD
TZOFFSETFROM:-0400
TZOFFSETTO:-0500
TZNAME:EST
DTSTART:20241103T060000
END:STANDARD
BEGIN:DAYLIGHT
TZOFFSETFROM:-0500
TZOFFSETTO:-0400
TZNAME:EDT
DTSTART:20250309T070000
END:DAYLIGHT
BEGIN:STANDARD
TZOFFSETFROM:-0400
TZOFFSETTO:-0500
TZNAME:EST
DTSTART:20251102T060000
END:STANDARD
END:VTIMEZONE
BEGIN:VEVENT
DTSTART;TZID=America/New_York:20240518T080000
DTEND;TZID=America/New_York:20240518T100000
DTSTAMP:20260424T053516
CREATED:20240320T183921Z
LAST-MODIFIED:20240513T200323Z
UID:10000204-1716019200-1716026400@scarboroughlandtrust.org
SUMMARY:Spring Bird Walk
DESCRIPTION:Join SLT Executive Director Andrew Mackie at Blue Heron Preserve for a morning migratory bird walk. \nBring binoculars to easily spot the faraway birds. Don’t forget water\, a snack\, layers\, sunscreen\, and insect repellent! \nThis program is suitable for all ages\, however\, the total distance walked will be over a mile. \nPre-registration is required. \nNote SLT’s Liability and Photo Release Form 
URL:https://scarboroughlandtrust.org/event/spring-bird-walk/
LOCATION:Blue Heron Preserve\, 51 US Route 1\, Scarborough\, ME\, 04074
ATTACH;FMTTYPE=image/jpeg:https://scarboroughlandtrust.org/wp-content/uploads/2021/04/Bird-picture-5_8_21-walk.jpg
END:VEVENT
END:VCALENDAR