BEGIN:VCALENDAR
VERSION:2.0
PRODID:-//Scarborough Land Trust - ECPv6.15.13//NONSGML v1.0//EN
CALSCALE:GREGORIAN
METHOD:PUBLISH
X-ORIGINAL-URL:https://scarboroughlandtrust.org
X-WR-CALDESC:Events for Scarborough Land Trust
REFRESH-INTERVAL;VALUE=DURATION:PT1H
X-Robots-Tag:noindex
X-PUBLISHED-TTL:PT1H
BEGIN:VTIMEZONE
TZID:America/New_York
BEGIN:DAYLIGHT
TZOFFSETFROM:-0500
TZOFFSETTO:-0400
TZNAME:EDT
DTSTART:20210314T070000
END:DAYLIGHT
BEGIN:STANDARD
TZOFFSETFROM:-0400
TZOFFSETTO:-0500
TZNAME:EST
DTSTART:20211107T060000
END:STANDARD
BEGIN:DAYLIGHT
TZOFFSETFROM:-0500
TZOFFSETTO:-0400
TZNAME:EDT
DTSTART:20220313T070000
END:DAYLIGHT
BEGIN:STANDARD
TZOFFSETFROM:-0400
TZOFFSETTO:-0500
TZNAME:EST
DTSTART:20221106T060000
END:STANDARD
BEGIN:DAYLIGHT
TZOFFSETFROM:-0500
TZOFFSETTO:-0400
TZNAME:EDT
DTSTART:20230312T070000
END:DAYLIGHT
BEGIN:STANDARD
TZOFFSETFROM:-0400
TZOFFSETTO:-0500
TZNAME:EST
DTSTART:20231105T060000
END:STANDARD
BEGIN:DAYLIGHT
TZOFFSETFROM:-0500
TZOFFSETTO:-0400
TZNAME:EDT
DTSTART:20240310T070000
END:DAYLIGHT
BEGIN:STANDARD
TZOFFSETFROM:-0400
TZOFFSETTO:-0500
TZNAME:EST
DTSTART:20241103T060000
END:STANDARD
END:VTIMEZONE
BEGIN:VEVENT
DTSTART;TZID=America/New_York:20230514T090000
DTEND;TZID=America/New_York:20230514T130000
DTSTAMP:20260425T102842
CREATED:20230412T161330Z
LAST-MODIFIED:20230510T185906Z
UID:10000118-1684054800-1684069200@scarboroughlandtrust.org
SUMMARY:Mother's Day at Broadturn Farm
DESCRIPTION:Sunday\, May 14th\n9am-1pm\nJoin us for flowers\, food trucks\, plants\, walks\, fun activities for kids…. and more!\n \nWe have lots of fun things planned!\nScarborough Land Trust will be selling Native Trees and Shrubs in our annual Plant Sale.   Download our list of available plants here. \nOur Pre order window has closed.  Please join us at Broadturn Farm on Mother’s Day to shop the event in person.  We will have a lot of inventory to choose from on the day of!  \n  All pre orders will be available for pick up at Broadturn Farm on Mother’s Day. SLT will also be offering some trees and shrubs available to shop in person at the event. \nBroadturn Farm is offering beautiful Mother’s Day arrangements for presale in a handmade ceramic vase.  Presale offered through their website. \nRebel Hill Farm is offering native wildflowers for preorder or shopping – a percentage of proceeds will go to the Scarborough Land Trust. Pre orders are available through their website. \nOld Wells Farm is offering certified organic vegetable\, flower\, and herb seedlings to shop. \nFood Trucks: \nCrepe Elizabeth \nThe Greeks of Peaks \nLocal Artisans will be offering some beautiful\, hand made items to shop:\nAlice Nasto Ceramics \n \nGo Go Refill \nDirigo Linum \nFull Cycle Art \nWe will also be offering 15 minute Massage appointments!\nSign up for a chair massage in Broadturn’s airbnb cabin and shop/eat/walk while you wait for your appointment! \nParking\nPlease park along the access road which is located at 7 Hanson Road. The main entrance to the farm will be blocked off.
URL:https://scarboroughlandtrust.org/event/mothers-day-at-broadturn-farm/
LOCATION:Broadturn Farm
ATTACH;FMTTYPE=image/jpeg:https://scarboroughlandtrust.org/wp-content/uploads/2023/04/BTF2.jpg
END:VEVENT
BEGIN:VEVENT
DTSTART;TZID=America/New_York:20230513T160000
DTEND;TZID=America/New_York:20230513T173000
DTSTAMP:20260425T102842
CREATED:20230413T202704Z
LAST-MODIFIED:20230427T144417Z
UID:10000120-1683993600-1683999000@scarboroughlandtrust.org
SUMMARY:Bird Walk with Andrew Mackie
DESCRIPTION:Join Andrew Mackie\, SLT’s Executive Director\, and Eddie Woodin for an afternoon bird walk at Broadturn Farm. Andrew and Mr. Woodin will take participants on a short hike and help participants identify birds they observe along the way.   \nThis program will be geared towards beginning and intermediate birders but all ages and skill levels are encouraged to attend. Be prepared to walk about 1 mile. Binoculars\, bug spray\, sturdy walking shoes\, and long pants are strongly recommended. Remain tick and insect aware. Registration is required for all participants. If you have a bird guide\, we encourage you to bring it along. If you don’t have a bird guide\, they are available for purchase through Scarborough Land Trust— contact us to get yours today! \nNote SLT’s Liability and Photo Release Form 
URL:https://scarboroughlandtrust.org/event/bird-walk-with-andrew-mackie-3/
LOCATION:Broadturn Farm
ATTACH;FMTTYPE=image/jpeg:https://scarboroughlandtrust.org/wp-content/uploads/2021/07/Red-Winged-Black-Bird-Dan-Kehlenbach-e1649167387727.jpg
END:VEVENT
BEGIN:VEVENT
DTSTART;TZID=America/New_York:20230401T103000
DTEND;TZID=America/New_York:20230401T113000
DTSTAMP:20260425T102842
CREATED:20230210T185954Z
LAST-MODIFIED:20230329T152048Z
UID:10000073-1680345000-1680348600@scarboroughlandtrust.org
SUMMARY:Exploring Vernal Pools
DESCRIPTION:Join the Scarborough Land Trust and the Amphibian and Reptile Trust International (http://amphibianreptile.org) in discovering the secrets of vernal pool wetlands. These seasonal\, temporary wetlands are vital breeding habitat for several salamander and frog species in Maine. We will spend the first part of the workshop discussing vernal pools (unheated barn) and the second part in the field exploring several vernal pools on Scarborough Land Trust preserves. Our instructor is Greg LeClair. Greg is a PhD student at the University of Maine where he studies environmental DNA applications for endangered species. Greg has been working in the field of herpetology (study of amphibians and reptiles) since 2014. Greg created and manages the Maine Big Night\, a community science project focused on monitoring and assisting road-crossing of amphibians throughout the State. \nThis event is for ages 16 and older.
URL:https://scarboroughlandtrust.org/event/exploring-vernal-pools/
LOCATION:Broadturn Farm
ATTACH;FMTTYPE=image/jpeg:https://scarboroughlandtrust.org/wp-content/uploads/2023/02/shutterstock_217855486-e1676058297183.jpg
END:VEVENT
BEGIN:VEVENT
DTSTART;TZID=America/New_York:20220810T150000
DTEND;TZID=America/New_York:20220810T170000
DTSTAMP:20260425T102842
CREATED:20220708T174655Z
LAST-MODIFIED:20220810T135748Z
UID:10000027-1660143600-1660150800@scarboroughlandtrust.org
SUMMARY:Summer Water Series: Session 1
DESCRIPTION:Image: Visualization by Sam Learner | https://river-runner.samlearner.com/\n  \nFollow a Raindrop and Explore Living Water in Scarborough\nScarborough Land Trust and Friends of Scarborough Marsh are celebrating WATER!\nSLT will be hosting a summer series for families and children in collaboration with FOSM. Each week will take a close look at water and its important role in the environment. Each session will be 2 hours long\, starting at 3 PM and concluding at 5 PM. \nSession 1 – Freshwater (Wednesday\, August 10) \nWe will begin the series with a trip to Broadturn Farm where participants can explore streams with dip nets and magnifying glasses. Here we will look for macroinvertebrates\, check out the clay stream sediment\, and turn over rocks to see salamanders. \nPlease Bring: \n\nClothes and shoes you don’t mind getting wet\nLayers- for temperature\, rain\, and tick coverage\nInsect repellent\nSunscreen\nSnacks and water\n\nActivities include science as well as book readings\, crafts\, and games. \nAlong the way\, we will be using a refractometer to measure the salinity of the water at each location. \nCost: FREE \nRecommended Age: 8 years and older (All children must be accompanied by an adult). \nNote SLT’s Liability and Photo Release Form  \n  \nIf you’d like to join us for all 3 sessions\, then you must register for all three sessions.\nSign up for Session 2 HERE: https://scarboroughlandtrust.org/event/summer-water-series-2/\nAnd Session 3 HERE: https://scarboroughlandtrust.org/event/summer-water-series-3\nPreregistration is required for this event. Those registering as a group are only required to register ONCE\, representing the party arriving in their vehicle. Registration capacity is limited by parking.\n*1 ticket equals 1 car*
URL:https://scarboroughlandtrust.org/event/summer-water-series-1/
LOCATION:Broadturn Farm
ATTACH;FMTTYPE=image/jpeg:https://scarboroughlandtrust.org/wp-content/uploads/2022/07/Feature-image-crop.jpg
END:VEVENT
BEGIN:VEVENT
DTSTART;TZID=America/New_York:20220730T193000
DTEND;TZID=America/New_York:20220730T213000
DTSTAMP:20260425T102842
CREATED:20220525T203505Z
LAST-MODIFIED:20220729T182009Z
UID:10000005-1659209400-1659216600@scarboroughlandtrust.org
SUMMARY:Bat Program
DESCRIPTION:Photo credit: Larry Master\, www.masterimages.org\n\n  \nBats: Fact vs. Myth\nJoin us in the field to talk about these misunderstood creatures. We will go over the species of bats found in Maine and their current conservation status. In addition\, we will dispel some myths frequently held about bats. Hopefully at dusk we can see some bats starting to fly around and feed for the night. Using a bat detector and an iPhone we will try to identify several species of bats from their ultrasonic frequencies. \nSuitable for ages 12 to 100. Please be prepared for a short walk and mosquitoes. In the event of bad weather\, the rain date will be Wednesday\, August 3rd. \nLocation update: This program will take place at Broadturn Farm
URL:https://scarboroughlandtrust.org/event/bat-program/
LOCATION:Broadturn Farm
ATTACH;FMTTYPE=image/jpeg:https://scarboroughlandtrust.org/wp-content/uploads/2022/05/LBB2-e1657215443791.jpg
END:VEVENT
END:VCALENDAR