BEGIN:VCALENDAR
VERSION:2.0
PRODID:-//Scarborough Land Trust - ECPv6.15.13//NONSGML v1.0//EN
CALSCALE:GREGORIAN
METHOD:PUBLISH
X-ORIGINAL-URL:https://scarboroughlandtrust.org
X-WR-CALDESC:Events for Scarborough Land Trust
REFRESH-INTERVAL;VALUE=DURATION:PT1H
X-Robots-Tag:noindex
X-PUBLISHED-TTL:PT1H
BEGIN:VTIMEZONE
TZID:America/New_York
BEGIN:DAYLIGHT
TZOFFSETFROM:-0500
TZOFFSETTO:-0400
TZNAME:EDT
DTSTART:20210314T070000
END:DAYLIGHT
BEGIN:STANDARD
TZOFFSETFROM:-0400
TZOFFSETTO:-0500
TZNAME:EST
DTSTART:20211107T060000
END:STANDARD
BEGIN:DAYLIGHT
TZOFFSETFROM:-0500
TZOFFSETTO:-0400
TZNAME:EDT
DTSTART:20220313T070000
END:DAYLIGHT
BEGIN:STANDARD
TZOFFSETFROM:-0400
TZOFFSETTO:-0500
TZNAME:EST
DTSTART:20221106T060000
END:STANDARD
BEGIN:DAYLIGHT
TZOFFSETFROM:-0500
TZOFFSETTO:-0400
TZNAME:EDT
DTSTART:20230312T070000
END:DAYLIGHT
BEGIN:STANDARD
TZOFFSETFROM:-0400
TZOFFSETTO:-0500
TZNAME:EST
DTSTART:20231105T060000
END:STANDARD
BEGIN:DAYLIGHT
TZOFFSETFROM:-0500
TZOFFSETTO:-0400
TZNAME:EDT
DTSTART:20240310T070000
END:DAYLIGHT
BEGIN:STANDARD
TZOFFSETFROM:-0400
TZOFFSETTO:-0500
TZNAME:EST
DTSTART:20241103T060000
END:STANDARD
END:VTIMEZONE
BEGIN:VEVENT
DTSTART;TZID=America/New_York:20230610T080000
DTEND;TZID=America/New_York:20230610T100000
DTSTAMP:20260423T231549
CREATED:20230413T203554Z
LAST-MODIFIED:20230608T145430Z
UID:10000124-1686384000-1686391200@scarboroughlandtrust.org
SUMMARY:Bird Walk
DESCRIPTION:  \nJoin birder Brad Woodward at Scarborough Land Trust’s Fuller Farm for a morning bird walk. Brad will lead a program featuring the birds of Scarborough.  \nBring binoculars to easily spot the faraway birds. Don’t forget water\, a snack\, layers\, sunscreen\, and insect repellent! \nThis program is suitable for all ages\, however\, the total distance walked will be over a mile. \nPre-registration is required. \nNote SLT’s Liability and Photo Release Form  \n 
URL:https://scarboroughlandtrust.org/event/bird-walk/
LOCATION:Fuller Farm Preserve\, 309 Broadturn Rd #299\, Scarborough\, ME\, 04074\, United States
ATTACH;FMTTYPE=image/jpeg:https://scarboroughlandtrust.org/wp-content/uploads/2017/03/Red-winged-Blackbird.stock-image.3-17-e1490974463458.jpg
END:VEVENT
BEGIN:VEVENT
DTSTART;TZID=America/New_York:20230318T193000
DTEND;TZID=America/New_York:20230318T210000
DTSTAMP:20260423T231549
CREATED:20230210T190625Z
LAST-MODIFIED:20230215T140841Z
UID:10000075-1679167800-1679173200@scarboroughlandtrust.org
SUMMARY:Tour of the Night Sky Constellations
DESCRIPTION:Join Maine amateur astronomer James Shields\, and Scout Troop 35 from Yarmouth\, for a night sky tour of the constellations. \nWe will discuss the lore behind the constellations and how the ancients used the night sky to tell time\, the start of the seasons\, and navigate. We will also be using telescopes to view objects in the sky such as Orion’s Nebula\, galaxies\, and star clusters. \nFuller Farm offers a close-by opportunity to be farther away from light pollution so we can get a clearer view of the stars.  It is still March so dress warm and be prepared for the temperature to drop after dark. It is also recommended that you bring a chair to sit on\, a blanket\, a red light flashlight\, and a pair of binoculars if you have them. If you don’t have a red light flashlight\, we can cover a flashlight with red cellophane. \nRain date – March 25.
URL:https://scarboroughlandtrust.org/event/tour-of-the-night-sky-constellations/
LOCATION:Fuller Farm Preserve\, 309 Broadturn Rd #299\, Scarborough\, ME\, 04074\, United States
ATTACH;FMTTYPE=image/png:https://scarboroughlandtrust.org/wp-content/uploads/2021/07/silo2-2-e1627338167679.png
END:VEVENT
BEGIN:VEVENT
DTSTART;TZID=America/New_York:20230218T100000
DTEND;TZID=America/New_York:20230218T113000
DTSTAMP:20260423T231549
CREATED:20220913T153846Z
LAST-MODIFIED:20220913T153846Z
UID:10000090-1676714400-1676719800@scarboroughlandtrust.org
SUMMARY:Snowshoe Tour of Fuller Farm
DESCRIPTION:Join Diane Neal\, SLT Board Member\, for a guided snowshoe tour of Fuller Farm Preserve. This will be a leisurely walk on flat terrain. Frozen ground will allow participants to see areas of the preserve that are not accessible during the rest of the year. The Overlook Trail at Fuller provides beautiful winter views of the fields. \nThis free event is open to all ages and is good for all fitness levels\, although participants will need to provide their own snowshoes. Please dress for winter. \nThe event will go on with or without snow. If there is not enough snow for snowshoes\, wear boots with sturdy traction. We highly suggest you bring ice traction for you boots: micro-spikes\, yak trax\, nanospikes\, etc. \nNote SLT’s Liability and Photo Release Form  \nRegistration capacity is limited by parking. Those registering as a group and traveling in one vehicle are only required to register once. *1 car equals 1 reservation*
URL:https://scarboroughlandtrust.org/event/snowshoe-tour-of-fuller-farm/
LOCATION:Fuller Farm Preserve\, 309 Broadturn Rd #299\, Scarborough\, ME\, 04074\, United States
ATTACH;FMTTYPE=image/jpeg:https://scarboroughlandtrust.org/wp-content/uploads/2022/09/20190130_150743-scaled.jpg
END:VEVENT
BEGIN:VEVENT
DTSTART;TZID=America/New_York:20221015T080000
DTEND;TZID=America/New_York:20221015T093000
DTSTAMP:20260423T231549
CREATED:20220831T151204Z
LAST-MODIFIED:20220831T151204Z
UID:10000088-1665820800-1665826200@scarboroughlandtrust.org
SUMMARY:Fall Migratory Bird Walk
DESCRIPTION:Palm Warbler by Abby Wilson\n  \nLearn about Maine’s fall songbirds and migratory species along the Atlantic Flyway! Fuller Farm is a great place to study birdlife. Birder Brad Woodward will show attendees the best locations to see fall favorites such as waxwings\, warblers\, and sparrows. \nBring binoculars to easily spot the faraway birds. Don’t forget water\, a snack\, layers\, sunscreen\, and insect repellent! \nThis program is suitable for all ages\, however\, the total distance walked will be over a mile. \nPre-registration is required. Those registering as a group are only required to register ONCE\, representing the party arriving in their vehicle. Registration capacity is limited by parking. *1 ticket equals 1 car* \nNote SLT’s Liability and Photo Release Form 
URL:https://scarboroughlandtrust.org/event/fall-migratory-bird-walk/
LOCATION:Fuller Farm Preserve\, 309 Broadturn Rd #299\, Scarborough\, ME\, 04074\, United States
ATTACH;FMTTYPE=image/jpeg:https://scarboroughlandtrust.org/wp-content/uploads/2022/08/Palm-warbler-AbbyWilson-scaled-e1661957547341.jpg
END:VEVENT
BEGIN:VEVENT
DTSTART;TZID=America/New_York:20220827T090000
DTEND;TZID=America/New_York:20220827T120000
DTSTAMP:20260423T231549
CREATED:20220708T170327Z
LAST-MODIFIED:20220714T170359Z
UID:10000096-1661590800-1661601600@scarboroughlandtrust.org
SUMMARY:Invasive Removal Work Day
DESCRIPTION:We need your help identifying these species and working to remove them before they spread! \nAll ages welcome\, although children must be accompanied by an adult. Be prepared to walk a short distance\, potentially off the maintained trail. We encourage stewardship volunteers to bring their own tools\, if they have them\, including gloves\, loppers\, trimmers\, shovels\, and any Personal Protective Equipment. We recommend wearing long pants\, comfortable footwear\, and applying bug spray. Remain tick and insect aware. \nNeed training on invasive identification? \nThere will be trainings every other Tuesday starting August 9th and ending September 20th at Pleasant Hill Preserve. \nTrail work days are scheduled on Saturdays this summer with a rotating location each month. \n\nJuly 16th and 30th – Pleasant Hill Preserve. \nAugust 13th and 27th – Fuller Farm Preserve.\nSeptember 10th and 24th – Blue Point Preserve.\n\nAfter volunteers have been trained they are encouraged to be autonomous and schedule additional work days for themselves and other volunteers. \nThere is no need to register but we ask that all participants fill out the Liability and Photo Release Form and Volunteer Form at https://docs.google.com/forms/d/e/1FAIpQLScPFXO-twK88yEnwbO7IJ59W3LBfepg9GUW6ofrDwAcBNWAXA/viewform \nQuestions?\nContact Sami at swolf@scarboroughlandtrust.org
URL:https://scarboroughlandtrust.org/event/invasive-removal-work-day-5/
LOCATION:Fuller Farm Preserve\, 309 Broadturn Rd #299\, Scarborough\, ME\, 04074\, United States
ATTACH;FMTTYPE=image/jpeg:https://scarboroughlandtrust.org/wp-content/uploads/2022/07/Joan-Sandy-Christine-1-scaled-e1657214811278.jpg
END:VEVENT
BEGIN:VEVENT
DTSTART;TZID=America/New_York:20220820T200000
DTEND;TZID=America/New_York:20220820T213000
DTSTAMP:20260423T231549
CREATED:20220715T144233Z
LAST-MODIFIED:20220715T144233Z
UID:10000013-1661025600-1661031000@scarboroughlandtrust.org
SUMMARY:Night Sky Guided Tour
DESCRIPTION:Photo: Milky Way seen from Mount Desert Island by Abby Wilson\n\nJoin James Shields\, a local amateur astronomer\, for a guided tour of the night sky! You will learn the names and history of constellations and some of their lore. Participants will learn to use binoculars to search for meteors\, satellites\, and the increasingly elusive Milky Way. The night sky is constantly active and evolving and with the help of James\, you will learn to recognize important astronomical events and features.\nBe prepared to walk about a half mile in the dark with the assistance of red-light flashlights.  If you do not have a red light\, please bring a regular flashlight and we will help you make one with red cellophane. Please bring a portable lawn chair or blanket to sit on. If you have them\, bring a pair of binoculars. We recommend insect repellent and a light jacket or layers for the cooler night temperatures!\n\nRegistration is PER PERSON.\nTickets are limited because parking is limited. Please carpool if at all possible.\nNote SLT’s Liability and Photo Release Form 
URL:https://scarboroughlandtrust.org/event/night-sky-guided-tour/
LOCATION:Fuller Farm Preserve\, 309 Broadturn Rd #299\, Scarborough\, ME\, 04074\, United States
ATTACH;FMTTYPE=image/jpeg:https://scarboroughlandtrust.org/wp-content/uploads/2022/07/img2-scaled-e1657895557220.jpg
END:VEVENT
BEGIN:VEVENT
DTSTART;TZID=America/New_York:20220813T090000
DTEND;TZID=America/New_York:20220813T120000
DTSTAMP:20260423T231549
CREATED:20220708T170205Z
LAST-MODIFIED:20220714T170319Z
UID:10000097-1660381200-1660392000@scarboroughlandtrust.org
SUMMARY:Invasive Removal Work Day
DESCRIPTION:We need your help identifying these species and working to remove them before they spread! \nAll ages welcome\, although children must be accompanied by an adult. Be prepared to walk a short distance\, potentially off the maintained trail. We encourage stewardship volunteers to bring their own tools\, if they have them\, including gloves\, loppers\, trimmers\, shovels\, and any Personal Protective Equipment. We recommend wearing long pants\, comfortable footwear\, and applying bug spray. Remain tick and insect aware. \nNeed training on invasive identification? \nThere will be trainings every other Tuesday starting August 9th and ending September 20th at Pleasant Hill Preserve. \nTrail work days are scheduled on Saturdays this summer with a rotating location each month. \n\nJuly 16th and 30th – Pleasant Hill Preserve. \nAugust 13th and 27th – Fuller Farm Preserve.\nSeptember 10th and 24th – Blue Point Preserve.\n\nAfter volunteers have been trained they are encouraged to be autonomous and schedule additional work days for themselves and other volunteers. \nThere is no need to register but we ask that all participants fill out the Liability and Photo Release Form and Volunteer Form at https://docs.google.com/forms/d/e/1FAIpQLScPFXO-twK88yEnwbO7IJ59W3LBfepg9GUW6ofrDwAcBNWAXA/viewform \nQuestions?\nContact Sami at swolf@scarboroughlandtrust.org
URL:https://scarboroughlandtrust.org/event/invasive-removal-work-day-4/
LOCATION:Fuller Farm Preserve\, 309 Broadturn Rd #299\, Scarborough\, ME\, 04074\, United States
ATTACH;FMTTYPE=image/jpeg:https://scarboroughlandtrust.org/wp-content/uploads/2022/07/Joan-Sandy-Christine-1-scaled-e1657214811278.jpg
END:VEVENT
BEGIN:VEVENT
DTSTART;TZID=America/New_York:20220709T100000
DTEND;TZID=America/New_York:20220709T120000
DTSTAMP:20260423T231549
CREATED:20220525T203905Z
LAST-MODIFIED:20220622T155605Z
UID:10000010-1657360800-1657368000@scarboroughlandtrust.org
SUMMARY:Mushroom Foraging
DESCRIPTION:This mushroom walk is designed to be an introduction to the Mycological world of Maine\, with a particular focus on edible mushrooms. The first half hour or so of class will be devoted to covering basic fungal biology and life cycle\, mushroom myths/truths\, and foraging practices. From there\, we’ll head into the forest and scan for mushrooms\, discussing our finds as we go. The species we are likely to find vary depending on season and location. By the end of class\, participants will walk away with growing confidence in several choice species and inspiration to learn more. As always\, we recommend sturdy footwear and insect repellant. Remain tick and insect aware! If you have a mushroom guide\, bring it along. If you’d like one\, you can purchase a guide through Scarborough Land Trust ahead of the event. Call the office to learn more at (207)289-1199. \nBio: Louis Giller has spent about a decade studying\, growing\, foraging\, and most importantly\, eating mushrooms. His mycological journey began at the University of Denver where he studied environmental science and conducted oyster mushroom research inspired by MycoCelebrity Paul Stamets. He found North Spore about 4 years ago\, where he primarily works on product production\, education\, and community outreach. \nNote SLT’s Liability and Photo Release Form  \nUpdated: Tickets $35/individual\, to be sold by NorthSpore \nGet tickets at https://northspore.com/products/event-mushroom-identification-walk-at-fuller-farm
URL:https://scarboroughlandtrust.org/event/mushroom-foraging/
LOCATION:Fuller Farm Preserve\, 309 Broadturn Rd #299\, Scarborough\, ME\, 04074\, United States
ATTACH;FMTTYPE=image/jpeg:https://scarboroughlandtrust.org/wp-content/uploads/2021/07/https___cdn.evbuc_.com_images_133385471_528244254743_1_original-e1655912920777.jpg
END:VEVENT
END:VCALENDAR