BEGIN:VCALENDAR
VERSION:2.0
PRODID:-//Scarborough Land Trust - ECPv6.15.13//NONSGML v1.0//EN
CALSCALE:GREGORIAN
METHOD:PUBLISH
X-WR-CALNAME:Scarborough Land Trust
X-ORIGINAL-URL:https://scarboroughlandtrust.org
X-WR-CALDESC:Events for Scarborough Land Trust
REFRESH-INTERVAL;VALUE=DURATION:PT1H
X-Robots-Tag:noindex
X-PUBLISHED-TTL:PT1H
BEGIN:VTIMEZONE
TZID:America/New_York
BEGIN:DAYLIGHT
TZOFFSETFROM:-0500
TZOFFSETTO:-0400
TZNAME:EDT
DTSTART:20240310T070000
END:DAYLIGHT
BEGIN:STANDARD
TZOFFSETFROM:-0400
TZOFFSETTO:-0500
TZNAME:EST
DTSTART:20241103T060000
END:STANDARD
BEGIN:DAYLIGHT
TZOFFSETFROM:-0500
TZOFFSETTO:-0400
TZNAME:EDT
DTSTART:20250309T070000
END:DAYLIGHT
BEGIN:STANDARD
TZOFFSETFROM:-0400
TZOFFSETTO:-0500
TZNAME:EST
DTSTART:20251102T060000
END:STANDARD
BEGIN:DAYLIGHT
TZOFFSETFROM:-0500
TZOFFSETTO:-0400
TZNAME:EDT
DTSTART:20260308T070000
END:DAYLIGHT
BEGIN:STANDARD
TZOFFSETFROM:-0400
TZOFFSETTO:-0500
TZNAME:EST
DTSTART:20261101T060000
END:STANDARD
END:VTIMEZONE
BEGIN:VEVENT
DTSTART;TZID=America/New_York:20250329T190000
DTEND;TZID=America/New_York:20250329T210000
DTSTAMP:20260424T021711
CREATED:20250124T205623Z
LAST-MODIFIED:20250131T205151Z
UID:10000283-1743274800-1743282000@scarboroughlandtrust.org
SUMMARY:A Peace of Forest Screening
DESCRIPTION:We have partnered with local area land trusts to present this very special screening of A Peace of Forest\, a quiet wildlife movie filmed in Maine.  After the viewing at USM’s Hannaford Hall in Portland\, there will be a short Q & A with the filmmakers.  Doors open at 6:30pm and the film begins at 7:00pm.  You can find out more about this unique film and watch a trailer at https://apeaceofforest.com/ . \nTo register\, visit the Falmouth Land Trust’s ticket sale page
URL:https://scarboroughlandtrust.org/event/a-peace-of-forest-screening/
LOCATION:Hannaford Hall\, 88 Bedford Street\, Portland\, Maine\, 04101
ATTACH;FMTTYPE=image/jpeg:https://scarboroughlandtrust.org/wp-content/uploads/2025/01/Movie-poster-a-Peace-of-Forest.jpg
END:VEVENT
END:VCALENDAR