BEGIN:VCALENDAR
VERSION:2.0
PRODID:-//Scarborough Land Trust - ECPv6.15.13//NONSGML v1.0//EN
CALSCALE:GREGORIAN
METHOD:PUBLISH
X-ORIGINAL-URL:https://scarboroughlandtrust.org
X-WR-CALDESC:Events for Scarborough Land Trust
REFRESH-INTERVAL;VALUE=DURATION:PT1H
X-Robots-Tag:noindex
X-PUBLISHED-TTL:PT1H
BEGIN:VTIMEZONE
TZID:America/New_York
BEGIN:DAYLIGHT
TZOFFSETFROM:-0500
TZOFFSETTO:-0400
TZNAME:EDT
DTSTART:20230312T070000
END:DAYLIGHT
BEGIN:STANDARD
TZOFFSETFROM:-0400
TZOFFSETTO:-0500
TZNAME:EST
DTSTART:20231105T060000
END:STANDARD
BEGIN:DAYLIGHT
TZOFFSETFROM:-0500
TZOFFSETTO:-0400
TZNAME:EDT
DTSTART:20240310T070000
END:DAYLIGHT
BEGIN:STANDARD
TZOFFSETFROM:-0400
TZOFFSETTO:-0500
TZNAME:EST
DTSTART:20241103T060000
END:STANDARD
BEGIN:DAYLIGHT
TZOFFSETFROM:-0500
TZOFFSETTO:-0400
TZNAME:EDT
DTSTART:20250309T070000
END:DAYLIGHT
BEGIN:STANDARD
TZOFFSETFROM:-0400
TZOFFSETTO:-0500
TZNAME:EST
DTSTART:20251102T060000
END:STANDARD
END:VTIMEZONE
BEGIN:VEVENT
DTSTART;TZID=America/New_York:20241207T100000
DTEND;TZID=America/New_York:20241207T113000
DTSTAMP:20260424T014813
CREATED:20241106T201303Z
LAST-MODIFIED:20241202T150330Z
UID:10000256-1733565600-1733571000@scarboroughlandtrust.org
SUMMARY:Women's Walk
DESCRIPTION:Come meet up with fellow women who enjoy the outdoors and have a desire to walk the wonderful open spaces Scarborough Land Trust has committed to preserving. Women are twice as likely as men to feel uncomfortable walking alone\, so we created this monthly program to foster a fun and supportive community for women to walk together and get to know our preserves. \nThese walks average 60-90 mins in length with a leisurely pace as we observe the landscape and wildlife. Bring binoculars or a camera if you are so inclined. Much of the terrain will be flat (either dirt or grass surfaces) but expect that there will brief uphill stretches\, wood crossings for boggy areas\, and some uneven ground (rocks\, tree roots). Trails could be wet with dew or muddy if there have been recent rains\, although we will postpone or reschedule if inclement weather is forecasted during the event itself. As always\, we recommend wearing long pants\, comfortable footwear\, and sunscreen as appropriate. \nParking can be limited on good weather weekends\, so if you are bringing a companion\, please carpool. \nAlthough most SLT properties are dog friendly\, we ask that you not bring dogs to this event. \n6 sign-up spots will be offered here\, and additional ones will be available through https://www.meetup.com/scarborough-land-trust-nature-and-farm-events/events/302811689/.
URL:https://scarboroughlandtrust.org/event/womens-walk-14/
LOCATION:Hemlock Grove Preserve\, 21 Saratoga Lane\, Scarborough\, ME\, 04074\, United States
ATTACH;FMTTYPE=image/jpeg:https://scarboroughlandtrust.org/wp-content/uploads/2024/10/The-Meadows-1-scaled.jpg
END:VEVENT
END:VCALENDAR