BEGIN:VCALENDAR
VERSION:2.0
PRODID:-//Scarborough Land Trust - ECPv6.15.13//NONSGML v1.0//EN
CALSCALE:GREGORIAN
METHOD:PUBLISH
X-WR-CALNAME:Scarborough Land Trust
X-ORIGINAL-URL:https://scarboroughlandtrust.org
X-WR-CALDESC:Events for Scarborough Land Trust
REFRESH-INTERVAL;VALUE=DURATION:PT1H
X-Robots-Tag:noindex
X-PUBLISHED-TTL:PT1H
BEGIN:VTIMEZONE
TZID:America/New_York
BEGIN:DAYLIGHT
TZOFFSETFROM:-0500
TZOFFSETTO:-0400
TZNAME:EDT
DTSTART:20210314T070000
END:DAYLIGHT
BEGIN:STANDARD
TZOFFSETFROM:-0400
TZOFFSETTO:-0500
TZNAME:EST
DTSTART:20211107T060000
END:STANDARD
BEGIN:DAYLIGHT
TZOFFSETFROM:-0500
TZOFFSETTO:-0400
TZNAME:EDT
DTSTART:20220313T070000
END:DAYLIGHT
BEGIN:STANDARD
TZOFFSETFROM:-0400
TZOFFSETTO:-0500
TZNAME:EST
DTSTART:20221106T060000
END:STANDARD
BEGIN:DAYLIGHT
TZOFFSETFROM:-0500
TZOFFSETTO:-0400
TZNAME:EDT
DTSTART:20230312T070000
END:DAYLIGHT
BEGIN:STANDARD
TZOFFSETFROM:-0400
TZOFFSETTO:-0500
TZNAME:EST
DTSTART:20231105T060000
END:STANDARD
END:VTIMEZONE
BEGIN:VEVENT
DTSTART;TZID=America/New_York:20220819T170000
DTEND;TZID=America/New_York:20220819T220000
DTSTAMP:20260424T024619
CREATED:20220714T174614Z
LAST-MODIFIED:20220714T175154Z
UID:10000012-1660928400-1660946400@scarboroughlandtrust.org
SUMMARY:Tabling at Scarborough Summerfest
DESCRIPTION:Visit SLT at the Scarborough Summerfest! Learn about the land trust and find out what events are on the calendar for the end of summer.\nThere will be music\, games\, food trucks\, and fireworks. Entry is FREE!\nMore info here: https://www.scarboroughmaine.org/departments/community-services/special-events
URL:https://scarboroughlandtrust.org/event/tabling-at-scarborough-summerfest/
LOCATION:Kippy Mitchell Sports Complex\, Municipal Drive\, Scarborough\, ME\, 04074\, United States
ATTACH;FMTTYPE=image/jpeg:https://scarboroughlandtrust.org/wp-content/uploads/2022/07/na2.pub_-e1657820541797.jpg
END:VEVENT
END:VCALENDAR