BEGIN:VCALENDAR
VERSION:2.0
PRODID:-//Scarborough Land Trust - ECPv6.15.13//NONSGML v1.0//EN
CALSCALE:GREGORIAN
METHOD:PUBLISH
X-ORIGINAL-URL:https://scarboroughlandtrust.org
X-WR-CALDESC:Events for Scarborough Land Trust
REFRESH-INTERVAL;VALUE=DURATION:PT1H
X-Robots-Tag:noindex
X-PUBLISHED-TTL:PT1H
BEGIN:VTIMEZONE
TZID:America/New_York
BEGIN:DAYLIGHT
TZOFFSETFROM:-0500
TZOFFSETTO:-0400
TZNAME:EDT
DTSTART:20250309T070000
END:DAYLIGHT
BEGIN:STANDARD
TZOFFSETFROM:-0400
TZOFFSETTO:-0500
TZNAME:EST
DTSTART:20251102T060000
END:STANDARD
BEGIN:DAYLIGHT
TZOFFSETFROM:-0500
TZOFFSETTO:-0400
TZNAME:EDT
DTSTART:20260308T070000
END:DAYLIGHT
BEGIN:STANDARD
TZOFFSETFROM:-0400
TZOFFSETTO:-0500
TZNAME:EST
DTSTART:20261101T060000
END:STANDARD
BEGIN:DAYLIGHT
TZOFFSETFROM:-0500
TZOFFSETTO:-0400
TZNAME:EDT
DTSTART:20270314T070000
END:DAYLIGHT
BEGIN:STANDARD
TZOFFSETFROM:-0400
TZOFFSETTO:-0500
TZNAME:EST
DTSTART:20271107T060000
END:STANDARD
END:VTIMEZONE
BEGIN:VEVENT
DTSTART;TZID=America/New_York:20260512T080000
DTEND;TZID=America/New_York:20260512T093000
DTSTAMP:20260423T025142
CREATED:20260225T180133Z
LAST-MODIFIED:20260225T180133Z
UID:10000372-1778572800-1778578200@scarboroughlandtrust.org
SUMMARY:Bird Walk
DESCRIPTION:Enjoy a fascinating bird walk at Libby River Preserve with SLT Executive Director and expert birder Andrew Mackie.
URL:https://scarboroughlandtrust.org/event/bird-walk-10/
LOCATION:Libby River Farm Preserve\, 320 Black Point Rd\, Scarborough\, ME\, 04074\, United States
ATTACH;FMTTYPE=image/jpeg:https://scarboroughlandtrust.org/wp-content/uploads/2026/02/chickadee-scaled-1.webp
END:VEVENT
BEGIN:VEVENT
DTSTART;TZID=America/New_York:20260718T100000
DTEND;TZID=America/New_York:20260718T113000
DTSTAMP:20260423T025142
CREATED:20260228T115011Z
LAST-MODIFIED:20260325T184828Z
UID:10000382-1784368800-1784374200@scarboroughlandtrust.org
SUMMARY:Women's Walk
DESCRIPTION:Come meet up with fellow women who enjoy the outdoors and have a desire to walk the wonderful open spaces Scarborough Land Trust has committed to preserving. Women are twice as likely as men to feel uncomfortable walking alone\, so we created this monthly program to foster a fun and supportive community for women to walk together and get to know our preserves. \nThese walks average 60-90 mins in length with a leisurely pace as we observe the landscape and wildlife (migrating birds\, wildflowers\, etc). Bring binoculars or a camera if you are so inclined. Much of the terrain will be flat (either dirt or grass surfaces) but expect that there will brief uphill stretches\, wood crossings for boggy areas\, and some uneven ground (rocks\, tree roots). Trails could be wet with dew or muddy if there have been recent rains\, although we will postpone or reschedule if inclement weather is forecasted during the event itself. As always\, we recommend wearing long pants\, comfortable footwear\, and sunscreen as appropriate. \nParking can be limited on good weather weekends\, so if you are bringing a companion\, please carpool. \nAlthough most SLT properties are dog friendly\, we ask that you not bring dogs to this event. \nSLT rarely cancels programs but occasionally we must\, especially in bad weather. Please check our website before heading out to a program to ensure it is still being held.
URL:https://scarboroughlandtrust.org/event/womens-walk-27/
LOCATION:Libby River Farm Preserve\, 320 Black Point Rd\, Scarborough\, ME\, 04074\, United States
ATTACH;FMTTYPE=image/jpeg:https://scarboroughlandtrust.org/wp-content/uploads/2024/10/LibbyRiverFarm-flowers-1-1200x900-1.jpg
END:VEVENT
END:VCALENDAR