BEGIN:VCALENDAR
VERSION:2.0
PRODID:-//Scarborough Land Trust - ECPv6.15.13//NONSGML v1.0//EN
CALSCALE:GREGORIAN
METHOD:PUBLISH
X-ORIGINAL-URL:https://scarboroughlandtrust.org
X-WR-CALDESC:Events for Scarborough Land Trust
REFRESH-INTERVAL;VALUE=DURATION:PT1H
X-Robots-Tag:noindex
X-PUBLISHED-TTL:PT1H
BEGIN:VTIMEZONE
TZID:America/New_York
BEGIN:DAYLIGHT
TZOFFSETFROM:-0500
TZOFFSETTO:-0400
TZNAME:EDT
DTSTART:20250309T070000
END:DAYLIGHT
BEGIN:STANDARD
TZOFFSETFROM:-0400
TZOFFSETTO:-0500
TZNAME:EST
DTSTART:20251102T060000
END:STANDARD
BEGIN:DAYLIGHT
TZOFFSETFROM:-0500
TZOFFSETTO:-0400
TZNAME:EDT
DTSTART:20260308T070000
END:DAYLIGHT
BEGIN:STANDARD
TZOFFSETFROM:-0400
TZOFFSETTO:-0500
TZNAME:EST
DTSTART:20261101T060000
END:STANDARD
BEGIN:DAYLIGHT
TZOFFSETFROM:-0500
TZOFFSETTO:-0400
TZNAME:EDT
DTSTART:20270314T070000
END:DAYLIGHT
BEGIN:STANDARD
TZOFFSETFROM:-0400
TZOFFSETTO:-0500
TZNAME:EST
DTSTART:20271107T060000
END:STANDARD
END:VTIMEZONE
BEGIN:VEVENT
DTSTART;TZID=America/New_York:20260523T100000
DTEND;TZID=America/New_York:20260523T113000
DTSTAMP:20260423T112505
CREATED:20260303T224911Z
LAST-MODIFIED:20260303T224911Z
UID:10000383-1779530400-1779535800@scarboroughlandtrust.org
SUMMARY:Women's Walk
DESCRIPTION:Come meet up with fellow women who enjoy the outdoors and have a desire to walk the wonderful open spaces Scarborough Land Trust has committed to preserving. Women are twice as likely as men to feel uncomfortable walking alone\, so we created this monthly program to foster a fun and supportive community for women to walk together and get to know our preserves. \nThese walks average 60-90 mins in length with a leisurely pace as we observe the landscape and wildlife (migrating birds\, wildflowers\, etc). Bring binoculars or a camera if you are so inclined. Much of the terrain will be flat (either dirt or grass surfaces) but expect that there will brief uphill stretches\, wood crossings for boggy areas\, and some uneven ground (rocks\, tree roots). Trails could be wet with dew or muddy if there have been recent rains\, although we will postpone or reschedule if inclement weather is forecasted during the event itself. As always\, we recommend wearing long pants\, comfortable footwear\, and sunscreen as appropriate. \nParking can be limited on good weather weekends\, so if you are bringing a companion\, please carpool. \nAlthough most SLT properties are dog friendly\, we ask that you not bring dogs to this event.
URL:https://scarboroughlandtrust.org/event/womens-walk-28/
LOCATION:Pleasant Hill Preserve\, 256-280 Pleasant Hill Rd\, Scarborough\, ME\, 04074\, United States
ATTACH;FMTTYPE=image/jpeg:https://scarboroughlandtrust.org/wp-content/uploads/2017/01/Elm-Temp-Trail.5-16-1-scaled.jpg
END:VEVENT
BEGIN:VEVENT
DTSTART;TZID=America/New_York:20260623T203000
DTEND;TZID=America/New_York:20260623T213000
DTSTAMP:20260423T112505
CREATED:20260119T124521Z
LAST-MODIFIED:20260325T184552Z
UID:10000366-1782246600-1782250200@scarboroughlandtrust.org
SUMMARY:Firefly Walk
DESCRIPTION:Watching fireflies is a favorite summer evening pastime for many of us. But most of us have no idea what is really taking place in a firefly meadow. Join Don Salvatore\, long time science educator at the Museum of Science in Boston and past curator of the Firefly Watch Citizen Science Project\, to learn about the “Secret Lives of Fireflies.” \nSLT rarely cancels programs but occasionally we must\, especially in bad weather. Please check our website before heading out to a program to ensure it is still being held. \n 
URL:https://scarboroughlandtrust.org/event/firefly-walk-4/
LOCATION:Pleasant Hill Preserve\, 256-280 Pleasant Hill Rd\, Scarborough\, ME\, 04074\, United States
ATTACH;FMTTYPE=image/jpeg:https://scarboroughlandtrust.org/wp-content/uploads/2022/06/Pleasant-Hill.jpg
END:VEVENT
BEGIN:VEVENT
DTSTART;TZID=America/New_York:20260912T080000
DTEND;TZID=America/New_York:20260912T093000
DTSTAMP:20260423T112505
CREATED:20260225T181652Z
LAST-MODIFIED:20260225T181652Z
UID:10000376-1789200000-1789205400@scarboroughlandtrust.org
SUMMARY:Bird Walk
DESCRIPTION:Enjoy a fascinating bird walk at Pleasant Hill Preserve with SLT volunteer and expert birder Dan Marquis.
URL:https://scarboroughlandtrust.org/event/bird-walk-14/
LOCATION:Pleasant Hill Preserve\, 256-280 Pleasant Hill Rd\, Scarborough\, ME\, 04074\, United States
END:VEVENT
END:VCALENDAR