BEGIN:VCALENDAR
VERSION:2.0
PRODID:-//Scarborough Land Trust - ECPv6.15.13//NONSGML v1.0//EN
CALSCALE:GREGORIAN
METHOD:PUBLISH
X-ORIGINAL-URL:https://scarboroughlandtrust.org
X-WR-CALDESC:Events for Scarborough Land Trust
REFRESH-INTERVAL;VALUE=DURATION:PT1H
X-Robots-Tag:noindex
X-PUBLISHED-TTL:PT1H
BEGIN:VTIMEZONE
TZID:America/New_York
BEGIN:DAYLIGHT
TZOFFSETFROM:-0500
TZOFFSETTO:-0400
TZNAME:EDT
DTSTART:20240310T070000
END:DAYLIGHT
BEGIN:STANDARD
TZOFFSETFROM:-0400
TZOFFSETTO:-0500
TZNAME:EST
DTSTART:20241103T060000
END:STANDARD
BEGIN:DAYLIGHT
TZOFFSETFROM:-0500
TZOFFSETTO:-0400
TZNAME:EDT
DTSTART:20250309T070000
END:DAYLIGHT
BEGIN:STANDARD
TZOFFSETFROM:-0400
TZOFFSETTO:-0500
TZNAME:EST
DTSTART:20251102T060000
END:STANDARD
BEGIN:DAYLIGHT
TZOFFSETFROM:-0500
TZOFFSETTO:-0400
TZNAME:EDT
DTSTART:20260308T070000
END:DAYLIGHT
BEGIN:STANDARD
TZOFFSETFROM:-0400
TZOFFSETTO:-0500
TZNAME:EST
DTSTART:20261101T060000
END:STANDARD
END:VTIMEZONE
BEGIN:VEVENT
DTSTART;TZID=America/New_York:20251028T190000
DTEND;TZID=America/New_York:20251028T200000
DTSTAMP:20260425T100823
CREATED:20250812T184630Z
LAST-MODIFIED:20250812T185055Z
UID:10000340-1761678000-1761681600@scarboroughlandtrust.org
SUMMARY:Author Talk
DESCRIPTION:Author Carolyn Sutton is appearing at Print: A Bookstore to discuss her reflective new book\, Eyes in the Soles of My Feet.  Publishers Weekly just raved about Caroline Sutton’s Eyes in the Soles of My Feet\,  “In these insightful essays\, nature writer Sutton highlights aspects of the natural world that are often overlooked…The result is a revelatory perspective on life on Earth.”  Don’t miss out on this engaging conversation followed by a Q & A about this highly perceptive new book.
URL:https://scarboroughlandtrust.org/event/author-talk-2/
LOCATION:Print: A Bookstore\, 273 Congress Street\, Portland\, ME\, 04101\, United States
ATTACH;FMTTYPE=image/jpeg:https://scarboroughlandtrust.org/wp-content/uploads/2025/08/eyes.jpg
END:VEVENT
END:VCALENDAR