BEGIN:VCALENDAR
VERSION:2.0
PRODID:-//Scarborough Land Trust - ECPv6.15.13//NONSGML v1.0//EN
CALSCALE:GREGORIAN
METHOD:PUBLISH
X-WR-CALNAME:Scarborough Land Trust
X-ORIGINAL-URL:https://scarboroughlandtrust.org
X-WR-CALDESC:Events for Scarborough Land Trust
REFRESH-INTERVAL;VALUE=DURATION:PT1H
X-Robots-Tag:noindex
X-PUBLISHED-TTL:PT1H
BEGIN:VTIMEZONE
TZID:America/New_York
BEGIN:DAYLIGHT
TZOFFSETFROM:-0500
TZOFFSETTO:-0400
TZNAME:EDT
DTSTART:20210314T070000
END:DAYLIGHT
BEGIN:STANDARD
TZOFFSETFROM:-0400
TZOFFSETTO:-0500
TZNAME:EST
DTSTART:20211107T060000
END:STANDARD
BEGIN:DAYLIGHT
TZOFFSETFROM:-0500
TZOFFSETTO:-0400
TZNAME:EDT
DTSTART:20220313T070000
END:DAYLIGHT
BEGIN:STANDARD
TZOFFSETFROM:-0400
TZOFFSETTO:-0500
TZNAME:EST
DTSTART:20221106T060000
END:STANDARD
BEGIN:DAYLIGHT
TZOFFSETFROM:-0500
TZOFFSETTO:-0400
TZNAME:EDT
DTSTART:20230312T070000
END:DAYLIGHT
BEGIN:STANDARD
TZOFFSETFROM:-0400
TZOFFSETTO:-0500
TZNAME:EST
DTSTART:20231105T060000
END:STANDARD
BEGIN:DAYLIGHT
TZOFFSETFROM:-0500
TZOFFSETTO:-0400
TZNAME:EDT
DTSTART:20240310T070000
END:DAYLIGHT
BEGIN:STANDARD
TZOFFSETFROM:-0400
TZOFFSETTO:-0500
TZNAME:EST
DTSTART:20241103T060000
END:STANDARD
END:VTIMEZONE
BEGIN:VEVENT
DTSTART;TZID=America/New_York:20230924T090000
DTEND;TZID=America/New_York:20230924T130000
DTSTAMP:20260423T201113
CREATED:20230609T154122Z
LAST-MODIFIED:20230609T154122Z
UID:10000138-1695546000-1695560400@scarboroughlandtrust.org
SUMMARY:SLT at The Scarborough Farmers' Market
DESCRIPTION:Visit our tent at the Scarborough Farmers’ Market on Sunday\, September 24 to celebrate Scarborough\, SLT\, and the start of fall! We’d love to meet you\, tell you about our work\, and introduce you to some new trails. SLT merchandise\, field guides\, books\, and more will be available for purchase. \nThe Farmers’ Market is open from 9-1 in the Scarborough Town Hall parking lot on Route 1. \nIf interested in volunteering to help staff our tent\, please email Henry at hgustavson@scarboroughlandtrust for more information.
URL:https://scarboroughlandtrust.org/event/slt-at-the-scarborough-farmers-market-5/
LOCATION:Scarborough Farmers Market\, 259 US Route 1\, Scarborough\, ME\, 04074\, United States
ATTACH;FMTTYPE=image/jpeg:https://scarboroughlandtrust.org/wp-content/uploads/2023/06/20220612_115528-scaled.jpg
END:VEVENT
BEGIN:VEVENT
DTSTART;TZID=America/New_York:20230813T090000
DTEND;TZID=America/New_York:20230813T130000
DTSTAMP:20260423T201113
CREATED:20230609T154033Z
LAST-MODIFIED:20230609T154033Z
UID:10000137-1691917200-1691931600@scarboroughlandtrust.org
SUMMARY:SLT at The Scarborough Farmers' Market
DESCRIPTION:Visit our tent at the Scarborough Farmers’ Market on Sunday\, August 13 to celebrate Scarborough\, SLT\, and the summer sun! We’d love to meet you\, tell you about our work\, and introduce you to some new trails. SLT merchandise\, field guides\, books\, and more will be available for purchase. \nThe Farmers’ Market is open from 9-1 in the Scarborough Town Hall parking lot on Route 1. \nIf interested in volunteering to help staff our tent\, please email Henry at hgustavson@scarboroughlandtrust for more information.
URL:https://scarboroughlandtrust.org/event/slt-at-the-scarborough-farmers-market-4/
LOCATION:Scarborough Farmers Market\, 259 US Route 1\, Scarborough\, ME\, 04074\, United States
ATTACH;FMTTYPE=image/jpeg:https://scarboroughlandtrust.org/wp-content/uploads/2023/06/20220612_115528-scaled.jpg
END:VEVENT
BEGIN:VEVENT
DTSTART;TZID=America/New_York:20230730T090000
DTEND;TZID=America/New_York:20230730T130000
DTSTAMP:20260423T201113
CREATED:20230609T153954Z
LAST-MODIFIED:20230609T153954Z
UID:10000136-1690707600-1690722000@scarboroughlandtrust.org
SUMMARY:SLT at The Scarborough Farmers' Market
DESCRIPTION:Visit our tent at the Scarborough Farmers’ Market on Sunday\, July 30 to celebrate Scarborough\, SLT\, and the summer sun! We’d love to meet you\, tell you about our work\, and introduce you to some new trails. SLT merchandise\, field guides\, books\, and more will be available for purchase. \nThe Farmers’ Market is open from 9-1 in the Scarborough Town Hall parking lot on Route 1. \nIf interested in volunteering to help staff our tent\, please email Henry at hgustavson@scarboroughlandtrust for more information.
URL:https://scarboroughlandtrust.org/event/slt-at-the-scarborough-farmers-market-3/
LOCATION:Scarborough Farmers Market\, 259 US Route 1\, Scarborough\, ME\, 04074\, United States
ATTACH;FMTTYPE=image/jpeg:https://scarboroughlandtrust.org/wp-content/uploads/2023/06/20220612_115528-scaled.jpg
END:VEVENT
BEGIN:VEVENT
DTSTART;TZID=America/New_York:20230702T090000
DTEND;TZID=America/New_York:20230702T130000
DTSTAMP:20260423T201113
CREATED:20230609T153739Z
LAST-MODIFIED:20230609T153739Z
UID:10000135-1688288400-1688302800@scarboroughlandtrust.org
SUMMARY:SLT at The Scarborough Farmers' Market
DESCRIPTION:Visit our tent at the Scarborough Farmers’ Market on Sunday\, July 2 to celebrate Scarborough\, SLT\, and Independence Day! We’d love to meet you\, tell you about our work\, and introduce you to some new trails. SLT merchandise\, field guides\, books\, and more will be available for purchase. \nThe Farmers’ Market is open from 9-1 in the Scarborough Town Hall parking lot on Route 1. \nIf interested in volunteering to help staff our tent\, please email Henry at hgustavson@scarboroughlandtrust for more information.
URL:https://scarboroughlandtrust.org/event/slt-at-the-scarborough-farmers-market-2/
LOCATION:Scarborough Farmers Market\, 259 US Route 1\, Scarborough\, ME\, 04074\, United States
ATTACH;FMTTYPE=image/jpeg:https://scarboroughlandtrust.org/wp-content/uploads/2023/06/20220612_115528-scaled.jpg
END:VEVENT
BEGIN:VEVENT
DTSTART;TZID=America/New_York:20230618T090000
DTEND;TZID=America/New_York:20230618T130000
DTSTAMP:20260423T201113
CREATED:20230609T153558Z
LAST-MODIFIED:20230609T153558Z
UID:10000134-1687078800-1687093200@scarboroughlandtrust.org
SUMMARY:SLT at The Scarborough Farmers' Market
DESCRIPTION:Visit our tent at the Scarborough Farmers’ Market on Sunday\, June 18 to celebrate Scarborough\, SLT\, and Fathers’ Day! We’d love to meet you\, tell you about our work\, and introduce you to some new trails. SLT merchandise\, field guides\, books\, and more will be available for purchase. \nThe Farmers’ Market is open from 9-1 in the Scarborough Town Hall parking lot on Route 1. \nIf interested in volunteering to help staff our tent\, please email Henry at hgustavson@scarboroughlandtrust for more information.
URL:https://scarboroughlandtrust.org/event/slt-at-the-scarborough-farmers-market/
LOCATION:Scarborough Farmers Market\, 259 US Route 1\, Scarborough\, ME\, 04074\, United States
ATTACH;FMTTYPE=image/jpeg:https://scarboroughlandtrust.org/wp-content/uploads/2023/06/20220612_115528-scaled.jpg
END:VEVENT
BEGIN:VEVENT
DTSTART;TZID=America/New_York:20220814T090000
DTEND;TZID=America/New_York:20220814T130000
DTSTAMP:20260423T201113
CREATED:20220617T201246Z
LAST-MODIFIED:20220707T174853Z
UID:10000007-1660467600-1660482000@scarboroughlandtrust.org
SUMMARY:SLT Tabling at Farmers Market
DESCRIPTION:Come visit us at the Scarborough Farmers Market this summer to learn about what we do and what events are happening! The Scarborough Farmers Market is located in the parking lot of Town Hall at 259 US Route 1.
URL:https://scarboroughlandtrust.org/event/slt-tabling-scarborough-farmers-market/
LOCATION:Scarborough Farmers Market\, 259 US Route 1\, Scarborough\, ME\, 04074\, United States
ATTACH;FMTTYPE=image/png:https://scarboroughlandtrust.org/wp-content/uploads/2022/05/Screen-Shot-2022-05-31-at-2.18.32-PM-e1657216063143.png
END:VEVENT
BEGIN:VEVENT
DTSTART;TZID=America/New_York:20220717T090000
DTEND;TZID=America/New_York:20220717T130000
DTSTAMP:20260423T201113
CREATED:20220617T200728Z
LAST-MODIFIED:20220617T201210Z
UID:10000008-1658048400-1658062800@scarboroughlandtrust.org
SUMMARY:SLT Tabling at Farmers Market
DESCRIPTION:Come visit us at the Scarborough Farmers Market this summer to learn about what we do and what events are happening! The Scarborough Farmers Market is located in the parking lot of Town Hall at 259 US Route 1.
URL:https://scarboroughlandtrust.org/event/slt-tabling-at-farmers-market-2/
LOCATION:Scarborough Farmers Market\, 259 US Route 1\, Scarborough\, ME\, 04074\, United States
ATTACH;FMTTYPE=image/png:https://scarboroughlandtrust.org/wp-content/uploads/2022/05/Screen-Shot-2022-05-31-at-2.18.32-PM-e1657216063143.png
END:VEVENT
END:VCALENDAR