BEGIN:VCALENDAR
VERSION:2.0
PRODID:-//Scarborough Land Trust - ECPv6.15.13//NONSGML v1.0//EN
CALSCALE:GREGORIAN
METHOD:PUBLISH
X-ORIGINAL-URL:https://scarboroughlandtrust.org
X-WR-CALDESC:Events for Scarborough Land Trust
REFRESH-INTERVAL;VALUE=DURATION:PT1H
X-Robots-Tag:noindex
X-PUBLISHED-TTL:PT1H
BEGIN:VTIMEZONE
TZID:America/New_York
BEGIN:DAYLIGHT
TZOFFSETFROM:-0500
TZOFFSETTO:-0400
TZNAME:EDT
DTSTART:20240310T070000
END:DAYLIGHT
BEGIN:STANDARD
TZOFFSETFROM:-0400
TZOFFSETTO:-0500
TZNAME:EST
DTSTART:20241103T060000
END:STANDARD
BEGIN:DAYLIGHT
TZOFFSETFROM:-0500
TZOFFSETTO:-0400
TZNAME:EDT
DTSTART:20250309T070000
END:DAYLIGHT
BEGIN:STANDARD
TZOFFSETFROM:-0400
TZOFFSETTO:-0500
TZNAME:EST
DTSTART:20251102T060000
END:STANDARD
BEGIN:DAYLIGHT
TZOFFSETFROM:-0500
TZOFFSETTO:-0400
TZNAME:EDT
DTSTART:20260308T070000
END:DAYLIGHT
BEGIN:STANDARD
TZOFFSETFROM:-0400
TZOFFSETTO:-0500
TZNAME:EST
DTSTART:20261101T060000
END:STANDARD
END:VTIMEZONE
BEGIN:VEVENT
DTSTART;TZID=America/New_York:20250823T100000
DTEND;TZID=America/New_York:20250823T110000
DTSTAMP:20260423T175711
CREATED:20250806T185747Z
LAST-MODIFIED:20250806T205703Z
UID:10000339-1755943200-1755946800@scarboroughlandtrust.org
SUMMARY:Women's Walk
DESCRIPTION:Come meet up with fellow women who enjoy the outdoors and have a desire to walk the wonderful open spaces Scarborough Land Trust has committed to preserving. Women are twice as likely as men to feel uncomfortable walking alone\, so we created this monthly program to foster a fun and supportive community for women to walk together and get to know our preserves. \nThese walks average 60-90 mins in length with a leisurely pace as we observe the landscape and wildlife (migrating birds\, wildflowers\, etc). Bring binoculars or a camera if you are so inclined. Much of the terrain will be flat (either dirt or grass surfaces) but expect that there will brief uphill stretches\, wood crossings for boggy areas\, and some uneven ground (rocks\, tree roots). Trails could be wet with dew or muddy if there have been recent rains\, although we will postpone or reschedule if inclement weather is forecasted during the event itself. As always\, we recommend wearing long pants\, comfortable footwear\, and sunscreen as appropriate. \nAlthough most SLT properties are dog friendly\, we ask that you not bring dogs to this event. \nWe will be meeting at the Eastern Trail parking lot on Pine Point Road (just past the Audubon Center).  Parking is limited here so carpooling is encouraged.
URL:https://scarboroughlandtrust.org/event/womens-walk-20/
LOCATION:Scarborough Marsh\, Scarborough\, ME\, 04074\, United States
ATTACH;FMTTYPE=image/jpeg:https://scarboroughlandtrust.org/wp-content/uploads/2025/03/green-marsh-scaled.jpeg
END:VEVENT
END:VCALENDAR