BEGIN:VCALENDAR
VERSION:2.0
PRODID:-//Scarborough Land Trust - ECPv6.15.13//NONSGML v1.0//EN
CALSCALE:GREGORIAN
METHOD:PUBLISH
X-WR-CALNAME:Scarborough Land Trust
X-ORIGINAL-URL:https://scarboroughlandtrust.org
X-WR-CALDESC:Events for Scarborough Land Trust
REFRESH-INTERVAL;VALUE=DURATION:PT1H
X-Robots-Tag:noindex
X-PUBLISHED-TTL:PT1H
BEGIN:VTIMEZONE
TZID:America/New_York
BEGIN:DAYLIGHT
TZOFFSETFROM:-0500
TZOFFSETTO:-0400
TZNAME:EDT
DTSTART:20220313T070000
END:DAYLIGHT
BEGIN:STANDARD
TZOFFSETFROM:-0400
TZOFFSETTO:-0500
TZNAME:EST
DTSTART:20221106T060000
END:STANDARD
BEGIN:DAYLIGHT
TZOFFSETFROM:-0500
TZOFFSETTO:-0400
TZNAME:EDT
DTSTART:20230312T070000
END:DAYLIGHT
BEGIN:STANDARD
TZOFFSETFROM:-0400
TZOFFSETTO:-0500
TZNAME:EST
DTSTART:20231105T060000
END:STANDARD
BEGIN:DAYLIGHT
TZOFFSETFROM:-0500
TZOFFSETTO:-0400
TZNAME:EDT
DTSTART:20240310T070000
END:DAYLIGHT
BEGIN:STANDARD
TZOFFSETFROM:-0400
TZOFFSETTO:-0500
TZNAME:EST
DTSTART:20241103T060000
END:STANDARD
END:VTIMEZONE
BEGIN:VEVENT
DTSTART;TZID=America/New_York:20231114T183000
DTEND;TZID=America/New_York:20231114T193000
DTSTAMP:20260424T040418
CREATED:20230922T142842Z
LAST-MODIFIED:20231024T145627Z
UID:10000177-1699986600-1699990200@scarboroughlandtrust.org
SUMMARY:Speaker: How the Personalities of Small Mammals Shape Forest Growth
DESCRIPTION:How the Personalities of Small Mammals Shape the Growth of Forests\n  \nScarborough Town Hall Chambers\n259 US-1\, Scarborough\, ME\n\nWe all know our cats and dogs have personalities\, but have you ever wondered about the squirrels in your backyard? How would you evaluate personality traits in squirrels\, mice\, or voles and why would you bother? \nThese small mammals play an important but often unseen role in forest regeneration and the movement of trees\, dispersing the seeds of the towering forests here in Maine. Personality in the mice and voles of our forests has consequences for where small mammals are living\, how they are foraging\, and what they are doing with the seeds they find\, influencing forest regeneration. Small mammals with contrasting personality traits are contributing to ecosystem services such as seed dispersal in different ways. \nLand-use change\, such as forest management or urbanization\, and climate change are also at work altering the composition of forests and the distribution of personality traits within populations. Researchers at Alessio Mortelliti’s lab at University of Maine are investigating the impact of small mammal personality on several ecological processes that shape the forest landscape. Come hear PhD candidate\, Maisie Merz\, talk about the interesting and important work and that she and the research team are doing right here in Maine.
URL:https://scarboroughlandtrust.org/event/speaker-how-the-personalities-of-small-mammals-shape-forest-growth/
LOCATION:Scarborough Town Hall\, 259 US-1\, Scarborough\, ME\, 04074\, United States
ATTACH;FMTTYPE=image/jpeg:https://scarboroughlandtrust.org/wp-content/uploads/2023/09/thumbnail_Maisie-Merz-mouse.jpg
END:VEVENT
END:VCALENDAR