BEGIN:VCALENDAR
VERSION:2.0
PRODID:-//Scarborough Land Trust - ECPv6.15.13//NONSGML v1.0//EN
CALSCALE:GREGORIAN
METHOD:PUBLISH
X-ORIGINAL-URL:https://scarboroughlandtrust.org
X-WR-CALDESC:Events for Scarborough Land Trust
REFRESH-INTERVAL;VALUE=DURATION:PT1H
X-Robots-Tag:noindex
X-PUBLISHED-TTL:PT1H
BEGIN:VTIMEZONE
TZID:America/New_York
BEGIN:DAYLIGHT
TZOFFSETFROM:-0500
TZOFFSETTO:-0400
TZNAME:EDT
DTSTART:20230312T070000
END:DAYLIGHT
BEGIN:STANDARD
TZOFFSETFROM:-0400
TZOFFSETTO:-0500
TZNAME:EST
DTSTART:20231105T060000
END:STANDARD
BEGIN:DAYLIGHT
TZOFFSETFROM:-0500
TZOFFSETTO:-0400
TZNAME:EDT
DTSTART:20240310T070000
END:DAYLIGHT
BEGIN:STANDARD
TZOFFSETFROM:-0400
TZOFFSETTO:-0500
TZNAME:EST
DTSTART:20241103T060000
END:STANDARD
BEGIN:DAYLIGHT
TZOFFSETFROM:-0500
TZOFFSETTO:-0400
TZNAME:EDT
DTSTART:20250309T070000
END:DAYLIGHT
BEGIN:STANDARD
TZOFFSETFROM:-0400
TZOFFSETTO:-0500
TZNAME:EST
DTSTART:20251102T060000
END:STANDARD
BEGIN:DAYLIGHT
TZOFFSETFROM:-0500
TZOFFSETTO:-0400
TZNAME:EDT
DTSTART:20260308T070000
END:DAYLIGHT
BEGIN:STANDARD
TZOFFSETFROM:-0400
TZOFFSETTO:-0500
TZNAME:EST
DTSTART:20261101T060000
END:STANDARD
END:VTIMEZONE
BEGIN:VEVENT
DTSTART;TZID=America/New_York:20251011T100000
DTEND;TZID=America/New_York:20251011T113000
DTSTAMP:20260424T015324
CREATED:20250930T124610Z
LAST-MODIFIED:20250930T124610Z
UID:10000349-1760176800-1760182200@scarboroughlandtrust.org
SUMMARY:Women's Walk
DESCRIPTION:Come meet up with fellow women who enjoy the outdoors and have a desire to walk the wonderful open spaces Scarborough Land Trust has committed to preserving. Women are twice as likely as men to feel uncomfortable walking alone\, so we created this monthly program to foster a fun and supportive community for women to walk together and get to know our preserves. \nThese walks average 60-90 mins in length with a leisurely pace as we observe the landscape and wildlife (migrating birds\, wildflowers\, etc). Bring binoculars or a camera if you are so inclined. Much of the terrain will be flat (either dirt or grass surfaces) but expect that there will brief uphill stretches\, wood crossings for boggy areas\, and some uneven ground (rocks\, tree roots). Trails could be wet with dew or muddy if there have been recent rains\, although we will postpone or reschedule if inclement weather is forecasted during the event itself. As always\, we recommend wearing long pants\, comfortable footwear\, and sunscreen as appropriate. \nParking can be limited on good weather weekends\, so if you are bringing a companion\, please carpool. \nAlthough most SLT properties are dog friendly\, we ask that you not bring dogs to this event.
URL:https://scarboroughlandtrust.org/event/womens-walk-21/
LOCATION:Sewell Woods\, 58 Ash Swamp Road\, Scarborough\, ME\, 04074\, United States
ATTACH;FMTTYPE=image/jpeg:https://scarboroughlandtrust.org/wp-content/uploads/2017/01/FullSizeRender-1-scaled.jpg
END:VEVENT
BEGIN:VEVENT
DTSTART;TZID=America/New_York:20241116T100000
DTEND;TZID=America/New_York:20241116T113000
DTSTAMP:20260424T015324
CREATED:20241011T154513Z
LAST-MODIFIED:20241105T151555Z
UID:10000249-1731751200-1731756600@scarboroughlandtrust.org
SUMMARY:Women's Walk
DESCRIPTION:Come meet up with fellow women who enjoy the outdoors and have a desire to walk the wonderful open spaces Scarborough Land Trust has committed to preserving. Women are twice as likely as men to feel uncomfortable walking alone\, so we created this monthly program to foster a fun and supportive community for women to walk together and get to know our preserves. \nThese walks average 60-90 mins in length with a leisurely pace as we observe the landscape and wildlife. Bring binoculars or a camera if you are so inclined. Much of the terrain will be flat (either dirt or grass surfaces) but expect that there will brief uphill stretches\, wood crossings for boggy areas\, and some uneven ground (rocks\, tree roots). Trails could be wet with dew or muddy if there have been recent rains\, although we will postpone or reschedule if inclement weather is forecasted during the event itself. As always\, we recommend wearing long pants\, comfortable footwear\, and sunscreen as appropriate. \nParking can be limited on good weather weekends\, so if you are bringing a companion\, please carpool. \nAlthough most SLT properties are dog friendly\, we ask that you not bring dogs to this event. \n6 sign-up spots will be offered here\, and additional ones will be available through https://www.meetup.com/scarborough-land-trust-nature-and-farm-events/events/302811689/.
URL:https://scarboroughlandtrust.org/event/womens-walk-13/
LOCATION:Sewell Woods\, 58 Ash Swamp Road\, Scarborough\, ME\, 04074\, United States
ATTACH;FMTTYPE=image/jpeg:https://scarboroughlandtrust.org/wp-content/uploads/2024/10/The-Meadows-1-scaled.jpg
END:VEVENT
BEGIN:VEVENT
DTSTART;TZID=America/New_York:20240919T173000
DTEND;TZID=America/New_York:20240919T200000
DTSTAMP:20260424T015324
CREATED:20240906T160747Z
LAST-MODIFIED:20240913T140033Z
UID:10000236-1726767000-1726776000@scarboroughlandtrust.org
SUMMARY:Get Outside & Make Gen Z/Millennial Friends: Nature Walk\, then Dinner & Drinks!
DESCRIPTION:Hanna Hamblen\, Scarborough Land Trust Communications Committee Member and local young professional invites you to connect with nature\, support local businesses\, and make friends. \nWe’ll start with a guided nature walk (1 – 2 miles) led by a SLT volunteer\, exploring the beauty of Sewell Woods. Then\, we’ll head to Chaba Thai for a relaxed social gathering\, where you can mingle with fellow nature enthusiasts and enjoy delicious food and drinks. \nPre-registration is required. Please visit the following link to register – \nhttps://www.meetup.com/scarborough-land-trust-nature-and-farm-events/events/303277699/?utm_medium=referral&utm_campaign=share-btn_savedevents_share_modal&utm_source=link
URL:https://scarboroughlandtrust.org/event/get-outside-make-gen-z-millennial-friends-nature-walk-then-dinner-drinks-3/
LOCATION:Sewell Woods\, 58 Ash Swamp Road\, Scarborough\, ME\, 04074\, United States
ATTACH;FMTTYPE=image/jpeg:https://scarboroughlandtrust.org/wp-content/uploads/2024/09/6aa0bd19-c3e1-4623-85b3-277c2b27146f-scaled.jpg
END:VEVENT
END:VCALENDAR