BEGIN:VCALENDAR
VERSION:2.0
PRODID:-//Scarborough Land Trust - ECPv6.15.13//NONSGML v1.0//EN
CALSCALE:GREGORIAN
METHOD:PUBLISH
X-ORIGINAL-URL:https://scarboroughlandtrust.org
X-WR-CALDESC:Events for Scarborough Land Trust
REFRESH-INTERVAL;VALUE=DURATION:PT1H
X-Robots-Tag:noindex
X-PUBLISHED-TTL:PT1H
BEGIN:VTIMEZONE
TZID:America/New_York
BEGIN:DAYLIGHT
TZOFFSETFROM:-0500
TZOFFSETTO:-0400
TZNAME:EDT
DTSTART:20250309T070000
END:DAYLIGHT
BEGIN:STANDARD
TZOFFSETFROM:-0400
TZOFFSETTO:-0500
TZNAME:EST
DTSTART:20251102T060000
END:STANDARD
BEGIN:DAYLIGHT
TZOFFSETFROM:-0500
TZOFFSETTO:-0400
TZNAME:EDT
DTSTART:20260308T070000
END:DAYLIGHT
BEGIN:STANDARD
TZOFFSETFROM:-0400
TZOFFSETTO:-0500
TZNAME:EST
DTSTART:20261101T060000
END:STANDARD
BEGIN:DAYLIGHT
TZOFFSETFROM:-0500
TZOFFSETTO:-0400
TZNAME:EDT
DTSTART:20270314T070000
END:DAYLIGHT
BEGIN:STANDARD
TZOFFSETFROM:-0400
TZOFFSETTO:-0500
TZNAME:EST
DTSTART:20271107T060000
END:STANDARD
END:VTIMEZONE
BEGIN:VEVENT
DTSTART;TZID=America/New_York:20260328T183000
DTEND;TZID=America/New_York:20260328T203000
DTSTAMP:20260424T040156
CREATED:20260115T210256Z
LAST-MODIFIED:20260324T134455Z
UID:10000365-1774722600-1774729800@scarboroughlandtrust.org
SUMMARY:World Trails Film Festival
DESCRIPTION:Scarborough Land Trust is partnering with nine other Portland-area land trusts and trail organizations to host a screening of the World Trails Film Festival. Enjoy 90 minutes of captivating films that take you around the globe\, meet trail builders\, discover new paths\, and learn why trails matter to communities everywhere. A panel discussion about local trail initiatives may be added.\n\nTime: Doors will open at 6:30 p.m.\, and the films will begin at 7:00 p.m. Arrive early to chat with local land trusts and hear about exciting plans to enhance and expand trail systems in our region.\n\nTickets: $15 for adults\, $10 for students\, $5 for kids\, and free for anyone who identifies as needing a free community ticket. Tickets can be purchased HERE.\n\nOur cohosts are: Portland Trails\, Presumpscot Regional Land Trust\, Falmouth Land Trust\, Freeport Conservation Trust\, Cape Elizabeth Land Trust\, Chebeague & Cumberland Land Trust\, Royal River Conservation Trust\, South Portland Land Trust\, and the Maine Land Trust Network.\n\nThanks to our generous event sponsors:\nMaine Beer Company\, Maine Trail Builders\, Go Go Refill\, Evergreen Credit Union\, and Flaherty’s Financial Services. \nPreview a trailer of one of the films being screened:
URL:https://scarboroughlandtrust.org/event/world-trails-film-festival/
LOCATION:University of Southern Maine Hannaford Hall\, 88 Bedford Street\, Portland\, ME\, 04101\, United States
ATTACH;FMTTYPE=image/jpeg:https://scarboroughlandtrust.org/wp-content/uploads/2026/01/Trails-Film-event-2026-flyer-small.jpg
END:VEVENT
END:VCALENDAR