BEGIN:VCALENDAR
VERSION:2.0
PRODID:-//Scarborough Land Trust - ECPv6.15.13//NONSGML v1.0//EN
CALSCALE:GREGORIAN
METHOD:PUBLISH
X-WR-CALNAME:Scarborough Land Trust
X-ORIGINAL-URL:https://scarboroughlandtrust.org
X-WR-CALDESC:Events for Scarborough Land Trust
REFRESH-INTERVAL;VALUE=DURATION:PT1H
X-Robots-Tag:noindex
X-PUBLISHED-TTL:PT1H
BEGIN:VTIMEZONE
TZID:America/New_York
BEGIN:DAYLIGHT
TZOFFSETFROM:-0500
TZOFFSETTO:-0400
TZNAME:EDT
DTSTART:20250309T070000
END:DAYLIGHT
BEGIN:STANDARD
TZOFFSETFROM:-0400
TZOFFSETTO:-0500
TZNAME:EST
DTSTART:20251102T060000
END:STANDARD
BEGIN:DAYLIGHT
TZOFFSETFROM:-0500
TZOFFSETTO:-0400
TZNAME:EDT
DTSTART:20260308T070000
END:DAYLIGHT
BEGIN:STANDARD
TZOFFSETFROM:-0400
TZOFFSETTO:-0500
TZNAME:EST
DTSTART:20261101T060000
END:STANDARD
BEGIN:DAYLIGHT
TZOFFSETFROM:-0500
TZOFFSETTO:-0400
TZNAME:EDT
DTSTART:20270314T070000
END:DAYLIGHT
BEGIN:STANDARD
TZOFFSETFROM:-0400
TZOFFSETTO:-0500
TZNAME:EST
DTSTART:20271107T060000
END:STANDARD
END:VTIMEZONE
BEGIN:VEVENT
DTSTART;TZID=America/New_York:20260626T100000
DTEND;TZID=America/New_York:20260626T120000
DTSTAMP:20260423T162642
CREATED:20260325T181554Z
LAST-MODIFIED:20260325T181554Z
UID:10000390-1782468000-1782475200@scarboroughlandtrust.org
SUMMARY:Wildflower Walk
DESCRIPTION:Join wildflower enthusiast Becky Warren Seel on a walk at Elaine Stimson Warren Woods Preserve. Becky has a deep connection to the property because of her family’s prior ownership and she is excited to share that connection with you by exploring the property\, showing you where different wildflowers can be found\, and sharing information about some of the flowers. Delight in the beautiful flowers such as the Grass Pink and Rose Pogonia orchids\, which are unique to Warren Woods and hopefully visible on this walk.  Come learn about these special plants and others that make Warren Woods their home. \n  \nPlease note that the land at Warren Woods tends to be wet and muddy\, especially after periods of heavy rain.  Participants are strongly encouraged to wear boots. \n SLT rarely cancels programs but occasionally we must\, especially in bad weather. Please check our website before heading out to a program to ensure it is still being held.
URL:https://scarboroughlandtrust.org/event/wildflower-walk-9/
LOCATION:Warren Woods\, 363 Payne Rd\, Scarborough\, ME\, 04074\, United States
ATTACH;FMTTYPE=image/jpeg:https://scarboroughlandtrust.org/wp-content/uploads/2017/05/Warren-grass-pink-orchid-cropweb-e1496846808781.jpg
END:VEVENT
BEGIN:VEVENT
DTSTART;TZID=America/New_York:20261003T080000
DTEND;TZID=America/New_York:20261003T093000
DTSTAMP:20260423T162642
CREATED:20260225T182019Z
LAST-MODIFIED:20260225T182019Z
UID:10000377-1791014400-1791019800@scarboroughlandtrust.org
SUMMARY:Bird Walk
DESCRIPTION:Enjoy a fascinating bird walk a Warren Woods Preserve with SLT Executive Director and expert birder Andrew Mackie.
URL:https://scarboroughlandtrust.org/event/bird-walk-15/
LOCATION:Warren Woods\, 363 Payne Rd\, Scarborough\, ME\, 04074\, United States
ATTACH;FMTTYPE=image/jpeg:https://scarboroughlandtrust.org/wp-content/uploads/2026/02/chickadee-scaled-1.webp
END:VEVENT
BEGIN:VEVENT
DTSTART;TZID=America/New_York:20261017T100000
DTEND;TZID=America/New_York:20261017T113000
DTSTAMP:20260423T162642
CREATED:20260227T144957Z
LAST-MODIFIED:20260325T185007Z
UID:10000378-1792231200-1792236600@scarboroughlandtrust.org
SUMMARY:Autumn Magic in the Maine Woods
DESCRIPTION:Join Maine Master Naturalist Christie Constantine for a guided walk exploring how our forests transform in autumn. Shorter days and cooler temperatures trigger a burst of color as trees shut down chlorophyll production and prepare for dormancy. Wildlife\, too\, is busy getting ready – whether storing food\, building fat reserves\, or seeking the perfect winter den. \nWe’ll explore why leaves change color and the remarkable strategies trees\, birds\, mammals\, amphibians\, and insects use to survive the colder months ahead. From migrating birds and food-hoarding squirrels to hibernating mammals and freeze-tolerant frogs\, this walk reveals the subtle and fascinating signs of seasonal preparation unfolding all around us. \nSLT rarely cancels programs but occasionally we must\, especially in bad weather. Please check our website before heading out to a program to ensure it is still being held. \n 
URL:https://scarboroughlandtrust.org/event/autumn-magic-in-the-maine-woods/
LOCATION:Warren Woods\, 363 Payne Rd\, Scarborough\, ME\, 04074\, United States
ATTACH;FMTTYPE=image/jpeg:https://scarboroughlandtrust.org/wp-content/uploads/2021/04/warren-woods-picture-for-5_8_21-walk-and-volunteer.jpg
END:VEVENT
END:VCALENDAR