BEGIN:VCALENDAR
VERSION:2.0
PRODID:-//Scarborough Land Trust - ECPv6.15.13//NONSGML v1.0//EN
CALSCALE:GREGORIAN
METHOD:PUBLISH
X-WR-CALNAME:Scarborough Land Trust
X-ORIGINAL-URL:https://scarboroughlandtrust.org
X-WR-CALDESC:Events for Scarborough Land Trust
REFRESH-INTERVAL;VALUE=DURATION:PT1H
X-Robots-Tag:noindex
X-PUBLISHED-TTL:PT1H
BEGIN:VTIMEZONE
TZID:America/New_York
BEGIN:DAYLIGHT
TZOFFSETFROM:-0500
TZOFFSETTO:-0400
TZNAME:EDT
DTSTART:20230312T070000
END:DAYLIGHT
BEGIN:STANDARD
TZOFFSETFROM:-0400
TZOFFSETTO:-0500
TZNAME:EST
DTSTART:20231105T060000
END:STANDARD
BEGIN:DAYLIGHT
TZOFFSETFROM:-0500
TZOFFSETTO:-0400
TZNAME:EDT
DTSTART:20240310T070000
END:DAYLIGHT
BEGIN:STANDARD
TZOFFSETFROM:-0400
TZOFFSETTO:-0500
TZNAME:EST
DTSTART:20241103T060000
END:STANDARD
BEGIN:DAYLIGHT
TZOFFSETFROM:-0500
TZOFFSETTO:-0400
TZNAME:EDT
DTSTART:20250309T070000
END:DAYLIGHT
BEGIN:STANDARD
TZOFFSETFROM:-0400
TZOFFSETTO:-0500
TZNAME:EST
DTSTART:20251102T060000
END:STANDARD
END:VTIMEZONE
BEGIN:VEVENT
DTSTART;TZID=America/New_York:20241029T183000
DTEND;TZID=America/New_York:20241029T193000
DTSTAMP:20260424T043751
CREATED:20241010T134047Z
LAST-MODIFIED:20241015T193534Z
UID:10000248-1730226600-1730230200@scarboroughlandtrust.org
SUMMARY:Butterflies of Maine
DESCRIPTION:In this virtual presentation\, Ron Butler\, Professor Emeritus at UMaine Farmington\, will introduce us to the beautiful butterflies that make Maine their home. Learn about their characteristics\, life cycle\, species in Maine\, population changes over time\, fun facts\, and ways to support these pollinating insects. \n 
URL:https://scarboroughlandtrust.org/event/butterflies-of-maine/
LOCATION:Zoom
ATTACH;FMTTYPE=image/jpeg:https://scarboroughlandtrust.org/wp-content/uploads/2024/09/74093001-6b76-4315-9d49-b25478b40ab4.jpg
END:VEVENT
BEGIN:VEVENT
DTSTART;TZID=America/New_York:20241008T183000
DTEND;TZID=America/New_York:20241008T200000
DTSTAMP:20260424T043751
CREATED:20240913T151524Z
LAST-MODIFIED:20241004T150240Z
UID:10000239-1728412200-1728417600@scarboroughlandtrust.org
SUMMARY:Butterflies of Maine Presentation
DESCRIPTION:In this virtual presentation\, Ron Butler\, Professor Emeritus at UMaine Farmington\, will introduce us to the beautiful butterflies that make Maine their home. Learn about their characteristics\, life cycle\, species in Maine\, population changes over time\, fun facts\, and ways to support these pollinating insects.
URL:https://scarboroughlandtrust.org/event/butterflies-of-maine-presentation/
LOCATION:Zoom
ATTACH;FMTTYPE=image/jpeg:https://scarboroughlandtrust.org/wp-content/uploads/2024/09/74093001-6b76-4315-9d49-b25478b40ab4.jpg
END:VEVENT
END:VCALENDAR